BEGIN:VCALENDAR
VERSION:2.0
PRODID:-//Board 30 Albuquerque - ECPv6.15.20//NONSGML v1.0//EN
CALSCALE:GREGORIAN
METHOD:PUBLISH
X-WR-CALNAME:Board 30 Albuquerque
X-ORIGINAL-URL:https://board30abq.com
X-WR-CALDESC:Events for Board 30 Albuquerque
REFRESH-INTERVAL;VALUE=DURATION:PT1H
X-Robots-Tag:noindex
X-PUBLISHED-TTL:PT1H
BEGIN:VTIMEZONE
TZID:America/Denver
BEGIN:DAYLIGHT
TZOFFSETFROM:-0700
TZOFFSETTO:-0600
TZNAME:MDT
DTSTART:20250309T090000
END:DAYLIGHT
BEGIN:STANDARD
TZOFFSETFROM:-0600
TZOFFSETTO:-0700
TZNAME:MST
DTSTART:20251102T080000
END:STANDARD
BEGIN:DAYLIGHT
TZOFFSETFROM:-0700
TZOFFSETTO:-0600
TZNAME:MDT
DTSTART:20260308T090000
END:DAYLIGHT
BEGIN:STANDARD
TZOFFSETFROM:-0600
TZOFFSETTO:-0700
TZNAME:MST
DTSTART:20261101T080000
END:STANDARD
BEGIN:DAYLIGHT
TZOFFSETFROM:-0700
TZOFFSETTO:-0600
TZNAME:MDT
DTSTART:20270314T090000
END:DAYLIGHT
BEGIN:STANDARD
TZOFFSETFROM:-0600
TZOFFSETTO:-0700
TZNAME:MST
DTSTART:20271107T080000
END:STANDARD
END:VTIMEZONE
BEGIN:VEVENT
DTSTART;TZID=America/Denver:20260508T120000
DTEND;TZID=America/Denver:20260508T130000
DTSTAMP:20260425T040721
CREATED:20260415T214218Z
LAST-MODIFIED:20260415T214218Z
UID:1764-1778241600-1778245200@board30abq.com
SUMMARY:7-Day Metabolism Reboot Challenge
DESCRIPTION:The 7-Day Metabolism Reboot Challenge begins May 8th and is designed to help you: \n✔️ Steady your energy \n✔️ Reduce cravings \n✔️ Help your body actually use food for fuel again \nInside the challenge\, you’ll follow a clear daily plan that walks you through: \n✔️ What to eat (without overthinking it) \n✔️ How to structure your meals \n✔️ Simple habits that actually make a difference \nREGISTER FOR CHALLENGE: \nhttps://momence.com/m/725532
URL:https://board30abq.com/event/7-day-metabolism-reboot/
LOCATION:Board30 Albuquerque\, 4801 Alameda Blvd NE\, Suite B\, Albuquerque\, NM\, 87113\, United States
ATTACH;FMTTYPE=image/png:https://board30abq.com/wp-content/uploads/2026/04/7dayreboot.png
END:VEVENT
BEGIN:VEVENT
DTSTART;TZID=America/Denver:20260521T173000
DTEND;TZID=America/Denver:20260521T183000
DTSTAMP:20260425T040721
CREATED:20260406T020040Z
LAST-MODIFIED:20260412T171326Z
UID:1757-1779384600-1779388200@board30abq.com
SUMMARY:Board30 Book Club
DESCRIPTION:Join us for a discussion on How a Little Becomes a Lot by Eric Zimmer. Read the entire book beforehand and come ready to discuss in a small group. \nThursday\, May 21st\, 5:30pm \nREGISTER FOR EVENT:  https://momence.com/l/VRhEEDZJ
URL:https://board30abq.com/event/board30-book-club/
LOCATION:Flying Star Cafe\, 4026 Rio Grande Blvd NW\, Albuquerue\, 87107\, United States
ATTACH;FMTTYPE=image/png:https://board30abq.com/wp-content/uploads/2026/04/BOOK-CLUB.png
END:VEVENT
END:VCALENDAR