BEGIN:VCALENDAR
VERSION:2.0
PRODID:-//Board 30 Albuquerque - ECPv6.15.20//NONSGML v1.0//EN
CALSCALE:GREGORIAN
METHOD:PUBLISH
X-WR-CALNAME:Board 30 Albuquerque
X-ORIGINAL-URL:https://board30abq.com
X-WR-CALDESC:Events for Board 30 Albuquerque
REFRESH-INTERVAL;VALUE=DURATION:PT1H
X-Robots-Tag:noindex
X-PUBLISHED-TTL:PT1H
BEGIN:VTIMEZONE
TZID:America/Denver
BEGIN:DAYLIGHT
TZOFFSETFROM:-0700
TZOFFSETTO:-0600
TZNAME:MDT
DTSTART:20250309T090000
END:DAYLIGHT
BEGIN:STANDARD
TZOFFSETFROM:-0600
TZOFFSETTO:-0700
TZNAME:MST
DTSTART:20251102T080000
END:STANDARD
BEGIN:DAYLIGHT
TZOFFSETFROM:-0700
TZOFFSETTO:-0600
TZNAME:MDT
DTSTART:20260308T090000
END:DAYLIGHT
BEGIN:STANDARD
TZOFFSETFROM:-0600
TZOFFSETTO:-0700
TZNAME:MST
DTSTART:20261101T080000
END:STANDARD
BEGIN:DAYLIGHT
TZOFFSETFROM:-0700
TZOFFSETTO:-0600
TZNAME:MDT
DTSTART:20270314T090000
END:DAYLIGHT
BEGIN:STANDARD
TZOFFSETFROM:-0600
TZOFFSETTO:-0700
TZNAME:MST
DTSTART:20271107T080000
END:STANDARD
END:VTIMEZONE
BEGIN:VEVENT
DTSTART;TZID=America/Denver:20260326T173000
DTEND;TZID=America/Denver:20260326T183000
DTSTAMP:20260423T020707
CREATED:20260206T233920Z
LAST-MODIFIED:20260206T233920Z
UID:1716-1774546200-1774549800@board30abq.com
SUMMARY:Board30 Book Club
DESCRIPTION:Join us for a discussion on Atomic Habits by James Clear. Read the entire book beforehand and come ready to discuss in a small group. \nThursday\, March 26th\, 5:30pm \nREGISTER FOR EVENT:  https://momence.com/l/5ehQWxaz
URL:https://board30abq.com/event/book-club-1/
LOCATION:Flying Star Cafe\, 4026 Rio Grande Blvd NW\, Albuquerue\, 87107\, United States
ATTACH;FMTTYPE=image/png:https://board30abq.com/wp-content/uploads/2026/02/Screenshot-2026-02-05-at-4.03.05-PM.png
END:VEVENT
BEGIN:VEVENT
DTSTART;TZID=America/Denver:20260328T120000
DTEND;TZID=America/Denver:20260328T130000
DTSTAMP:20260423T020707
CREATED:20260206T002356Z
LAST-MODIFIED:20260206T002356Z
UID:1714-1774699200-1774702800@board30abq.com
SUMMARY:Discover Board30 Clinic
DESCRIPTION:Thinking about trying Board30 but not sure what to expect? Join us for a free\, beginner-friendly session designed just for you. Instructor Leah will walk you through the equipment\, explain how our classes work\, and answer any questions so you feel confident and comfortable before your first class. No workout required — just come learn\, explore\, and see what makes Board30 such a safe and effective way to build strength. \nSaturday\, March 28th \n12pm \nREGISTER FOR EVENT:  https://momence.com/l/4ZhnMZ7L
URL:https://board30abq.com/event/discover-board30-clinic-2/
LOCATION:Board30 Albuquerque\, 4801 Alameda Blvd NE\, Suite B\, Albuquerque\, NM\, 87113\, United States
ATTACH;FMTTYPE=image/png:https://board30abq.com/wp-content/uploads/2026/02/discoverclinic.png
END:VEVENT
END:VCALENDAR