BEGIN:VCALENDAR
VERSION:2.0
PRODID:-//Board 30 Albuquerque - ECPv6.15.20//NONSGML v1.0//EN
CALSCALE:GREGORIAN
METHOD:PUBLISH
X-WR-CALNAME:Board 30 Albuquerque
X-ORIGINAL-URL:https://board30abq.com
X-WR-CALDESC:Events for Board 30 Albuquerque
REFRESH-INTERVAL;VALUE=DURATION:PT1H
X-Robots-Tag:noindex
X-PUBLISHED-TTL:PT1H
BEGIN:VTIMEZONE
TZID:America/Denver
BEGIN:DAYLIGHT
TZOFFSETFROM:-0700
TZOFFSETTO:-0600
TZNAME:MDT
DTSTART:20240310T090000
END:DAYLIGHT
BEGIN:STANDARD
TZOFFSETFROM:-0600
TZOFFSETTO:-0700
TZNAME:MST
DTSTART:20241103T080000
END:STANDARD
BEGIN:DAYLIGHT
TZOFFSETFROM:-0700
TZOFFSETTO:-0600
TZNAME:MDT
DTSTART:20250309T090000
END:DAYLIGHT
BEGIN:STANDARD
TZOFFSETFROM:-0600
TZOFFSETTO:-0700
TZNAME:MST
DTSTART:20251102T080000
END:STANDARD
BEGIN:DAYLIGHT
TZOFFSETFROM:-0700
TZOFFSETTO:-0600
TZNAME:MDT
DTSTART:20260308T090000
END:DAYLIGHT
BEGIN:STANDARD
TZOFFSETFROM:-0600
TZOFFSETTO:-0700
TZNAME:MST
DTSTART:20261101T080000
END:STANDARD
END:VTIMEZONE
BEGIN:VEVENT
DTSTART;TZID=America/Denver:20251114T180000
DTEND;TZID=America/Denver:20251114T190000
DTSTAMP:20260422T183411
CREATED:20251020T193734Z
LAST-MODIFIED:20251020T193734Z
UID:1664-1763143200-1763146800@board30abq.com
SUMMARY:Friday Night Lights
DESCRIPTION:Join us for a special once-a-month Friday evening class designed to energize your body and lift your spirits during the winter months. Expect the signature Board30 workout you love — low-impact\, strength-focused\, and high on results — with a few winter-warming twists: ✨ Special lighting ✨ Uplifting music to boost your mood ✨ An extended guided stretch at the end to help you fully unwind Whether you’re closing out a long week or just want to move and breathe in a beautiful\, calming space — this is your time to shine. \nFriday\, November 14th \nREGISTER FOR EVENT:  https://momence.com/l/DAhoBPza
URL:https://board30abq.com/event/fridaynightlights/
LOCATION:Board30 Albuquerque\, 4801 Alameda Blvd NE\, Suite B\, Albuquerque\, NM\, 87113\, United States
ATTACH;FMTTYPE=image/png:https://board30abq.com/wp-content/uploads/2025/10/ChatGPT-Image-Oct-20-2025-12_59_58-PM.png
END:VEVENT
BEGIN:VEVENT
DTSTART;TZID=America/Denver:20251115T120000
DTEND;TZID=America/Denver:20251115T140000
DTSTAMP:20260422T183411
CREATED:20251020T135751Z
LAST-MODIFIED:20251020T135751Z
UID:1662-1763208000-1763215200@board30abq.com
SUMMARY:Holiday Pet Photos
DESCRIPTION:Bring your furry friend for holiday photos (you and your family can be in it too)! Once registered\, we’ll reach out to schedule your appointment time. All proceeds benefit Cross My Paws! \nSaturday\, November 15th \n12-2pm \nREGISTER FOR EVENT: https://momence.com/s/124514420
URL:https://board30abq.com/event/holiday-pet-photos/
LOCATION:Board30 Albuquerque\, 4801 Alameda Blvd NE\, Suite B\, Albuquerque\, NM\, 87113\, United States
ATTACH;FMTTYPE=image/jpeg:https://board30abq.com/wp-content/uploads/2025/10/Holiday-Pet-Photos-3-scaled.jpeg
END:VEVENT
END:VCALENDAR