BEGIN:VCALENDAR
VERSION:2.0
PRODID:-//Board 30 Albuquerque - ECPv6.15.20//NONSGML v1.0//EN
CALSCALE:GREGORIAN
METHOD:PUBLISH
X-ORIGINAL-URL:https://board30abq.com
X-WR-CALDESC:Events for Board 30 Albuquerque
REFRESH-INTERVAL;VALUE=DURATION:PT1H
X-Robots-Tag:noindex
X-PUBLISHED-TTL:PT1H
BEGIN:VTIMEZONE
TZID:America/Denver
BEGIN:DAYLIGHT
TZOFFSETFROM:-0700
TZOFFSETTO:-0600
TZNAME:MDT
DTSTART:20240310T090000
END:DAYLIGHT
BEGIN:STANDARD
TZOFFSETFROM:-0600
TZOFFSETTO:-0700
TZNAME:MST
DTSTART:20241103T080000
END:STANDARD
BEGIN:DAYLIGHT
TZOFFSETFROM:-0700
TZOFFSETTO:-0600
TZNAME:MDT
DTSTART:20250309T090000
END:DAYLIGHT
BEGIN:STANDARD
TZOFFSETFROM:-0600
TZOFFSETTO:-0700
TZNAME:MST
DTSTART:20251102T080000
END:STANDARD
BEGIN:DAYLIGHT
TZOFFSETFROM:-0700
TZOFFSETTO:-0600
TZNAME:MDT
DTSTART:20260308T090000
END:DAYLIGHT
BEGIN:STANDARD
TZOFFSETFROM:-0600
TZOFFSETTO:-0700
TZNAME:MST
DTSTART:20261101T080000
END:STANDARD
END:VTIMEZONE
BEGIN:VEVENT
DTSTART;TZID=America/Denver:20250814T190000
DTEND;TZID=America/Denver:20250814T200000
DTSTAMP:20260422T053629
CREATED:20250723T222503Z
LAST-MODIFIED:20250723T222503Z
UID:1630-1755198000-1755201600@board30abq.com
SUMMARY:Pop-up Yoga
DESCRIPTION:Special class—combination of yoga\, dancing and shaking. Shaking helps release stress\, trauma and the lymphatic system in the body. Led by Jenna Hice. \nThursday\, August 14\, 7-8pm \nREGISTER FOR EVENT: \nhttps://momence.com/s/119934096
URL:https://board30abq.com/event/pop-up-yoga-7/
LOCATION:Board30 Albuquerque\, 4801 Alameda Blvd NE\, Suite B\, Albuquerque\, NM\, 87113\, United States
ATTACH;FMTTYPE=image/png:https://board30abq.com/wp-content/uploads/2025/07/BUTI-YOGA-Instagram-Post-45.png
END:VEVENT
BEGIN:VEVENT
DTSTART;TZID=America/Denver:20250816T120000
DTEND;TZID=America/Denver:20250816T130000
DTSTAMP:20260422T053629
CREATED:20250726T170741Z
LAST-MODIFIED:20250728T145245Z
UID:1634-1755345600-1755349200@board30abq.com
SUMMARY:Nutrition Made Simple: Key Steps to Real Results
DESCRIPTION:With so much nutrition advice out there\, it’s easy to feel overwhelmed. This workshop cuts through the confusion and helps you understand exactly where to start when it comes to improving your nutrition. \nDeanna Goodwin will walk you through the Hierarchy of Nutrition—a step-by-step approach that prioritizes what truly matters. You’ll leave with a clear plan\, knowing where to focus your efforts first (and what you can stop stressing about). \n✔️ Learn the 6 key steps to better nutrition—ranked by importance \n✔️ Avoid common pitfalls\, like getting stuck on tiny details that don’t actually matter \n✔️ Set clear nutritional priorities so you can make changes that truly support your goals \nSaturday\, August 16\, 12-1 pm \nREGISTER FOR FREE EVENT: \nhttps://momence.com/s/120249133
URL:https://board30abq.com/event/nutrition-made-simple-key-steps-to-real-results-3/
LOCATION:NM
ATTACH;FMTTYPE=image/png:https://board30abq.com/wp-content/uploads/2025/04/Screenshot-2025-03-20-at-3.19.39 PM.png
END:VEVENT
BEGIN:VEVENT
DTSTART;TZID=America/Denver:20250817T160000
DTEND;TZID=America/Denver:20250817T170000
DTSTAMP:20260422T053629
CREATED:20250723T223051Z
LAST-MODIFIED:20250723T223051Z
UID:1632-1755446400-1755450000@board30abq.com
SUMMARY:Lotus Sound Bath
DESCRIPTION:Immerse yourself in a deeply transformative and rejuvenating experience. \n\n\n\n\n\nDuring this event you’ll be guided on a journey of self-discovery and healing. Douglas from Lotus Sound Bath will use the ethereal sounds of crystal singing bowls and gongs to create a symphony of tranquility. \n\n\n \n\n\nThis event is open to everyone\, whether you’re new to sound healing or a seasoned practitioner. \n\nSunday\, August 17th 4-5pm \nREGISTER FOR EVENT:  Register
URL:https://board30abq.com/event/lotus-sound-bath-5/
LOCATION:Board30 Albuquerque\, 4801 Alameda Blvd NE\, Suite B\, Albuquerque\, NM\, 87113\, United States
ATTACH;FMTTYPE=image/png:https://board30abq.com/wp-content/uploads/2025/07/Subheading.png
END:VEVENT
END:VCALENDAR