BEGIN:VCALENDAR
VERSION:2.0
PRODID:-//Board 30 Albuquerque - ECPv6.15.17.1//NONSGML v1.0//EN
CALSCALE:GREGORIAN
METHOD:PUBLISH
X-ORIGINAL-URL:https://board30abq.com
X-WR-CALDESC:Events for Board 30 Albuquerque
REFRESH-INTERVAL;VALUE=DURATION:PT1H
X-Robots-Tag:noindex
X-PUBLISHED-TTL:PT1H
BEGIN:VTIMEZONE
TZID:America/Denver
BEGIN:DAYLIGHT
TZOFFSETFROM:-0700
TZOFFSETTO:-0600
TZNAME:MDT
DTSTART:20240310T090000
END:DAYLIGHT
BEGIN:STANDARD
TZOFFSETFROM:-0600
TZOFFSETTO:-0700
TZNAME:MST
DTSTART:20241103T080000
END:STANDARD
BEGIN:DAYLIGHT
TZOFFSETFROM:-0700
TZOFFSETTO:-0600
TZNAME:MDT
DTSTART:20250309T090000
END:DAYLIGHT
BEGIN:STANDARD
TZOFFSETFROM:-0600
TZOFFSETTO:-0700
TZNAME:MST
DTSTART:20251102T080000
END:STANDARD
BEGIN:DAYLIGHT
TZOFFSETFROM:-0700
TZOFFSETTO:-0600
TZNAME:MDT
DTSTART:20260308T090000
END:DAYLIGHT
BEGIN:STANDARD
TZOFFSETFROM:-0600
TZOFFSETTO:-0700
TZNAME:MST
DTSTART:20261101T080000
END:STANDARD
END:VTIMEZONE
BEGIN:VEVENT
DTSTART;TZID=America/Denver:20250621T120000
DTEND;TZID=America/Denver:20250621T130000
DTSTAMP:20260420T100454
CREATED:20250514T220129Z
LAST-MODIFIED:20250514T220129Z
UID:1618-1750507200-1750510800@board30abq.com
SUMMARY:Back in Action: Wake Up Your Glutes
DESCRIPTION:Say goodbye to sleepy glutes! Join our Doctor of Physical Therapy\, Dr. Arlianne Scott\, for a fun\, hands-on session designed to help you activate your glutes and keep them working for better strength\, stability\, and support. \n$10 Members $15 Non-members \nSaturday\, June 21st\, 12:00-1:00pm \nSIGN UP: \nhttps://momence.com/s/116934638
URL:https://board30abq.com/event/back-in-action-wake-up-your-glutes/
LOCATION:Board30 Albuquerque\, 4801 Alameda Blvd NE\, Suite B\, Albuquerque\, NM\, 87113\, United States
ATTACH;FMTTYPE=image/png:https://board30abq.com/wp-content/uploads/2025/05/Back-in-Action-Wake-Up-Your-Glutes-Saturday-June-21-12pm-Led-by-Dr.-Arlianne-@-Artistry-in-Motion-PT.png
END:VEVENT
END:VCALENDAR