BEGIN:VCALENDAR
VERSION:2.0
PRODID:-//Board 30 Albuquerque - ECPv6.15.20//NONSGML v1.0//EN
CALSCALE:GREGORIAN
METHOD:PUBLISH
X-WR-CALNAME:Board 30 Albuquerque
X-ORIGINAL-URL:https://board30abq.com
X-WR-CALDESC:Events for Board 30 Albuquerque
REFRESH-INTERVAL;VALUE=DURATION:PT1H
X-Robots-Tag:noindex
X-PUBLISHED-TTL:PT1H
BEGIN:VTIMEZONE
TZID:America/Denver
BEGIN:DAYLIGHT
TZOFFSETFROM:-0700
TZOFFSETTO:-0600
TZNAME:MDT
DTSTART:20240310T090000
END:DAYLIGHT
BEGIN:STANDARD
TZOFFSETFROM:-0600
TZOFFSETTO:-0700
TZNAME:MST
DTSTART:20241103T080000
END:STANDARD
BEGIN:DAYLIGHT
TZOFFSETFROM:-0700
TZOFFSETTO:-0600
TZNAME:MDT
DTSTART:20250309T090000
END:DAYLIGHT
BEGIN:STANDARD
TZOFFSETFROM:-0600
TZOFFSETTO:-0700
TZNAME:MST
DTSTART:20251102T080000
END:STANDARD
BEGIN:DAYLIGHT
TZOFFSETFROM:-0700
TZOFFSETTO:-0600
TZNAME:MDT
DTSTART:20260308T090000
END:DAYLIGHT
BEGIN:STANDARD
TZOFFSETFROM:-0600
TZOFFSETTO:-0700
TZNAME:MST
DTSTART:20261101T080000
END:STANDARD
END:VTIMEZONE
BEGIN:VEVENT
DTSTART;TZID=America/Denver:20251212T180000
DTEND;TZID=America/Denver:20251212T190000
DTSTAMP:20260422T175854
CREATED:20251125T143904Z
LAST-MODIFIED:20251125T143904Z
UID:1682-1765562400-1765566000@board30abq.com
SUMMARY:Friday Night Lights
DESCRIPTION:Join us for a special once-a-month Friday evening class designed to energize your body and lift your spirits during the winter months. Expect the signature Board30 workout you love — strength-focused\, and high on results — with a few winter-warming twists: ✨ Special lighting ✨ Uplifting music to boost your mood ✨ An extended guided stretch at the end to help you fully unwind Whether you’re closing out a long week or just want to move and breathe in a beautiful\, calming space — this is your time to shine. \nFriday\, December 12th \nREGISTER FOR EVENT:  https://momence.com/l/OehjXlrQ
URL:https://board30abq.com/event/friday-night-lights/
LOCATION:Board30 Albuquerque\, 4801 Alameda Blvd NE\, Suite B\, Albuquerque\, NM\, 87113\, United States
ATTACH;FMTTYPE=image/png:https://board30abq.com/wp-content/uploads/2025/11/fridaynightlightsdec.png
END:VEVENT
END:VCALENDAR