BEGIN:VCALENDAR
VERSION:2.0
PRODID:-//Board 30 Albuquerque - ECPv6.15.17.1//NONSGML v1.0//EN
CALSCALE:GREGORIAN
METHOD:PUBLISH
X-ORIGINAL-URL:https://board30abq.com
X-WR-CALDESC:Events for Board 30 Albuquerque
REFRESH-INTERVAL;VALUE=DURATION:PT1H
X-Robots-Tag:noindex
X-PUBLISHED-TTL:PT1H
BEGIN:VTIMEZONE
TZID:America/Denver
BEGIN:DAYLIGHT
TZOFFSETFROM:-0700
TZOFFSETTO:-0600
TZNAME:MDT
DTSTART:20240310T090000
END:DAYLIGHT
BEGIN:STANDARD
TZOFFSETFROM:-0600
TZOFFSETTO:-0700
TZNAME:MST
DTSTART:20241103T080000
END:STANDARD
BEGIN:DAYLIGHT
TZOFFSETFROM:-0700
TZOFFSETTO:-0600
TZNAME:MDT
DTSTART:20250309T090000
END:DAYLIGHT
BEGIN:STANDARD
TZOFFSETFROM:-0600
TZOFFSETTO:-0700
TZNAME:MST
DTSTART:20251102T080000
END:STANDARD
BEGIN:DAYLIGHT
TZOFFSETFROM:-0700
TZOFFSETTO:-0600
TZNAME:MDT
DTSTART:20260308T090000
END:DAYLIGHT
BEGIN:STANDARD
TZOFFSETFROM:-0600
TZOFFSETTO:-0700
TZNAME:MST
DTSTART:20261101T080000
END:STANDARD
END:VTIMEZONE
BEGIN:VEVENT
DTSTART;TZID=America/Denver:20250412T120000
DTEND;TZID=America/Denver:20250412T130000
DTSTAMP:20260420T084012
CREATED:20250324T182654Z
LAST-MODIFIED:20250324T182654Z
UID:1592-1744459200-1744462800@board30abq.com
SUMMARY:Nutrition Made Simple: Key Steps to Real Results
DESCRIPTION:With so much nutrition advice out there\, it’s easy to feel overwhelmed. This workshop cuts through the confusion and helps you understand exactly where to start when it comes to improving your nutrition. \nDeanna Goodwin will walk you through the Hierarchy of Nutrition—a step-by-step approach that prioritizes what truly matters. You’ll leave with a clear plan\, knowing where to focus your efforts first (and what you can stop stressing about). \n✔️ Learn the 6 key steps to better nutrition—ranked by importance \n✔️ Avoid common pitfalls\, like getting stuck on tiny details that don’t actually matter \n✔️ Set clear nutritional priorities so you can make changes that truly support your goals \nSaturday\, April 12\, 12-1pm \nREGISTER FOR FREE EVENT: \nhttps://momence.com/s/114526357
URL:https://board30abq.com/event/nutrition-made-simple-key-steps-to-real-results/
LOCATION:Board30 Albuquerque\, 4801 Alameda Blvd NE\, Suite B\, Albuquerque\, NM\, 87113\, United States
ATTACH;FMTTYPE=image/png:https://board30abq.com/wp-content/uploads/2025/03/Copy-of-BOARD30-Stories-1080-x-1350-px-1.png
END:VEVENT
END:VCALENDAR