BEGIN:VCALENDAR
VERSION:2.0
PRODID:-//Board 30 Albuquerque - ECPv6.15.17.1//NONSGML v1.0//EN
CALSCALE:GREGORIAN
METHOD:PUBLISH
X-ORIGINAL-URL:https://board30abq.com
X-WR-CALDESC:Events for Board 30 Albuquerque
REFRESH-INTERVAL;VALUE=DURATION:PT1H
X-Robots-Tag:noindex
X-PUBLISHED-TTL:PT1H
BEGIN:VTIMEZONE
TZID:America/Denver
BEGIN:DAYLIGHT
TZOFFSETFROM:-0700
TZOFFSETTO:-0600
TZNAME:MDT
DTSTART:20230312T090000
END:DAYLIGHT
BEGIN:STANDARD
TZOFFSETFROM:-0600
TZOFFSETTO:-0700
TZNAME:MST
DTSTART:20231105T080000
END:STANDARD
BEGIN:DAYLIGHT
TZOFFSETFROM:-0700
TZOFFSETTO:-0600
TZNAME:MDT
DTSTART:20240310T090000
END:DAYLIGHT
BEGIN:STANDARD
TZOFFSETFROM:-0600
TZOFFSETTO:-0700
TZNAME:MST
DTSTART:20241103T080000
END:STANDARD
BEGIN:DAYLIGHT
TZOFFSETFROM:-0700
TZOFFSETTO:-0600
TZNAME:MDT
DTSTART:20250309T090000
END:DAYLIGHT
BEGIN:STANDARD
TZOFFSETFROM:-0600
TZOFFSETTO:-0700
TZNAME:MST
DTSTART:20251102T080000
END:STANDARD
END:VTIMEZONE
BEGIN:VEVENT
DTSTART;TZID=America/Denver:20240203T123000
DTEND;TZID=America/Denver:20240203T140000
DTSTAMP:20260420T084023
CREATED:20240118T034315Z
LAST-MODIFIED:20240118T034315Z
UID:1373-1706963400-1706968800@board30abq.com
SUMMARY:Taste the Wellness: Preparing Delicious and Nutritious meals
DESCRIPTION:Join Fallon Bader\, Registered Dietitian\, culinary instructor\, and local business owner of the Sprouting Kitchen\, in this fun and immersive educational event. She will go over easy cooking techniques that deliver more flavor and satisfaction—for even the pickiest eaters.  \nShe’ll also discuss the five most important foods to focus on to achieve your health and fitness goals. You’ll even get to sample the tasty recipes demonstrated! \nSaturday\, February 3rd 12:30-2pm \nREGISTER FOR EVENT: \nhttps://momence.com/s/99201607
URL:https://board30abq.com/event/taste-the-wellness-preparing-delicious-and-nutritious-meals/
LOCATION:Designer Warehouse\, 8610 President Place NE\, Albuquerque\, NM\, 87113\, United States
ATTACH;FMTTYPE=image/png:https://board30abq.com/wp-content/uploads/2024/01/cooking.png
END:VEVENT
END:VCALENDAR